BEGIN:VCALENDAR
VERSION:2.0
PRODID:icalendar-ruby
CALSCALE:GREGORIAN
METHOD:PUBLISH
BEGIN:VEVENT
DTSTAMP:20260422T072824Z
UID:3e2ec3fb-c599-4fa0-961d-b9c72229bea1
DTSTART:20260923T090000
DTEND:20260924T220000
DESCRIPTION:<p><strong style="color: rgb(0\, 0\, 0)\;">THE CHALLENGE </stro
 ng></p><p><span style="color: rgb(0\, 0\, 0)\;">﻿11 HOUR CUT-OFF </span>
 </p><p><span style="color: rgb(0\, 0\, 0)\;">﻿</span><span style="color:
  rgb(0\, 30\, 80)\;">The Otter TERREX Trail\, Presented by EasyEquities is
  Africa’s premium marathon distance trail running event. Dubbed the Grai
 l of Trail\, the event traverses South Africa’s world-renowned five-day 
 Otter hiking trail which is otherwise off-limits to trail running. The und
 ulating coastal trail provides an unparalleled test of technical trail run
 ning drawing a competitive field from across the globe.</span></p><p><span
  style="color: rgb(0\, 30\, 80)\;">The Event is staged in two departures w
 ith two different cut-off times\; the Otter Challenge with an 11-hour cut-
 off\, and the Otter Race with a more demanding 9-hour cut-off. The Race an
 d The Challenge are each staged over two days\, with a 4km prologue on the
  first day and 42km race on the second day. The course alternates directio
 n each year\, between the Classic and Retto Edition. 2026 marks another ye
 ar of the Retto Edition. </span></p><p><span style="color: rgb(0\, 30\, 8
 0)\;">The Otter TERREX Trail\, Presented by EasyEquities is far more than 
 a trail run\, and is acclaimed as a celebration of wilderness conservation
  becoming a benchmark for sustainable eventing. </span></p><p><br></p><p><
 br></p><p><a href="https://otter.run/" target="_blank" style="color: rgb(1
 18\, 79\, 219)\;">Website</a></p><p><a href="https://otter.run/cancellatio
 ns-and-refunds/" target="_blank" style="color: rgb(118\, 79\, 219)\;">Even
 t Information and Policies</a></p><p><br></p><p><br></p>
LOCATION:Storms River Mouth Restcamp\, Garden Route National Park\, Humansd
 orp\, 6308
SUMMARY:2026 Otter TERREX Trail - The Challenge
URL;VALUE=URI:https://otterrun.howler.co.za/thechallenge2026
END:VEVENT
END:VCALENDAR
