BEGIN:VCALENDAR
VERSION:2.0
PRODID:icalendar-ruby
CALSCALE:GREGORIAN
METHOD:PUBLISH
BEGIN:VEVENT
DTSTAMP:20260422T085255Z
UID:304115e6-acc3-4969-acc2-fa91615f6844
DTSTART:20260925T090000
DTEND:20260926T220000
DESCRIPTION:<p><strong style="color: rgb(0\, 0\, 0)\;">THE RACE </strong></
 p><p><span style="color: rgb(0\, 0\, 0)\;">﻿9 HOUR CUT-OFF </span></p><p
 ><span style="color: rgb(0\, 0\, 0)\;">﻿</span><span style="color: rgb(0
 \, 30\, 80)\;">The Otter TERREX Trail\, Presented by EasyEquities is Afric
 a’s premium marathon distance trail running event. Dubbed the Grail of T
 rail\, the event traverses South Africa’s world-renowned five-day Otter 
 hiking trail which is otherwise off-limits to trail running. The undulatin
 g coastal trail provides an unparalleled test of technical trail running d
 rawing a competitive field from across the globe.</span></p><p><span style
 ="color: rgb(0\, 30\, 80)\;">The Event is staged in two departures with tw
 o different cut-off times\; the Otter Challenge with an 11-hour cut-off\, 
 and the Otter Race with a more demanding 9-hour cut-off. The Race and The 
 Challenge are each staged over two days\, with a 4km prologue on the first
  day and 42km race on the second day. The course alternates direction each
  year\, between the Classic and Retto Edition. 2026 marks another year of 
 the Retto Edition. </span></p><p><span style="color: rgb(0\, 30\, 80)\;">
 The Otter TERREX Trail\, Presented by EasyEquities is far more than a trai
 l run\, and is acclaimed as a celebration of wilderness conservation becom
 ing a benchmark for sustainable eventing. </span></p><p><br></p><p><br></p
 ><p><a href="https://otter.run/" target="_blank" style="color: rgb(118\, 7
 9\, 219)\;">Website</a></p><p><a href="https://otter.run/cancellations-and
 -refunds/" target="_blank" style="color: rgb(118\, 79\, 219)\;">Event Info
 rmation and Policies</a></p><p><br></p><p><br></p>
LOCATION:Storms River Mouth Restcamp\, Garden Route National Park\, Humansd
 orp\, 6308
SUMMARY:2026 Otter TERREX Trail - The Race
URL;VALUE=URI:https://otterrun.howler.co.za/therace2026
END:VEVENT
END:VCALENDAR
